BEGIN:VCALENDAR
VERSION:2.0
PRODID:-//Jarrel Estate Agents//Inspection Calendar//EN
CALSCALE:GREGORIAN
METHOD:PUBLISH
BEGIN:VEVENT
SUMMARY:Property Inspection - 45/27 Queens Road\, Melbourne
DTSTART:20260425T040000Z
DTEND:20260425T041500Z
UID:inspection-22-24368970@dev.jarrel.com.au
DESCRIPTION:Property Inspection at 45/27 Queens Road\, Melbourne\, VIC 300
 4\n\nView listing: https://dev.jarrel.com.au/listings/4527-queens-road-mel
 bourne/\n\nContact:\n  Gary Jarrel | Mobile: 0403265135 | Email: gary@jarr
 el.com.au\n  Leasing Manager | Mobile: 0412850193 | Email: lease@jarrel.co
 m.au
LOCATION:45/27 Queens Road\, Melbourne\, VIC 3004
URL:https://dev.jarrel.com.au/listings/4527-queens-road-melbourne/
END:VEVENT
END:VCALENDAR
