BEGIN:VCALENDAR
VERSION:2.0
PRODID:-//Jarrel Estate Agents//Inspection Calendar//EN
CALSCALE:GREGORIAN
METHOD:PUBLISH
BEGIN:VEVENT
SUMMARY:Property Inspection - 10/3 Graylings Avenue\, St Kilda East
DTSTART:20260430T033000Z
DTEND:20260430T040000Z
UID:inspection-25-24369068@dev.jarrel.com.au
DESCRIPTION:Property Inspection at 10/3 Graylings Avenue\, St Kilda East\,
  VIC 3183\n\nView listing: https://dev.jarrel.com.au/listings/103-grayling
 s-avenue-saint-kilda-east/\n\nContact:\n  Tanya Jarrel | Mobile: 041282977
 4 | Email: tanya@jarrel.com.au
LOCATION:10/3 Graylings Avenue\, St Kilda East\, VIC 3183
URL:https://dev.jarrel.com.au/listings/103-graylings-avenue-saint-kilda-ea
 st/
END:VEVENT
END:VCALENDAR
